BEGIN:VCALENDAR
VERSION:2.0
PRODID:-//Vision Advisory Management - ECPv6.2.2//NONSGML v1.0//EN
CALSCALE:GREGORIAN
METHOD:PUBLISH
X-WR-CALNAME:Vision Advisory Management
X-ORIGINAL-URL:https://visionadvisory.sg
X-WR-CALDESC:Events for Vision Advisory Management
REFRESH-INTERVAL;VALUE=DURATION:PT1H
X-Robots-Tag:noindex
X-PUBLISHED-TTL:PT1H
BEGIN:VTIMEZONE
TZID:UTC
BEGIN:STANDARD
TZOFFSETFROM:+0000
TZOFFSETTO:+0000
TZNAME:UTC
DTSTART:20230101T000000
END:STANDARD
END:VTIMEZONE
BEGIN:VEVENT
DTSTART;TZID=UTC:20231017T180000
DTEND;TZID=UTC:20231017T210000
DTSTAMP:20260423T062716
CREATED:20230826T024806Z
LAST-MODIFIED:20231009T035309Z
UID:702-1697565600-1697576400@visionadvisory.sg
SUMMARY:Cancer Your Uncertainty
DESCRIPTION:🦠 Cancer: Your Uncertainty Unraveled! 🦠 \nDive into a riveting exploration of life’s uncertainties at our upcoming event – “Cancer: Your Uncertainty.” Cancer impacts lives globally\, demanding awareness and understanding. In our upcoming event\, we’re delving deep into this complex disease\, featuring the esteemed medical oncologist\, Dr. Donald Poon. Prepare for an insightful conversation as he discusses common cancers and the latest cancer drugs list that can be life-changing.🩺  \nBut that’s not all! Meet the brilliant Lisa Lim from First Sentier Investors\, a financial luminary with over 15 years of expertise. She will shed light on Asia equities and fixed income\, providing a unique perspective on finding stability amid the unknown. \nThis event isn’t just a gathering; it’s a transformative experience designed to empower you with knowledge\, inspire resilience\, and offer hope. Don’t let uncertainty hold you back. Embrace the unknown with courage\, understanding\, and a community of support.
URL:https://visionadvisory.sg/event/cancer-your-uncertainty/
LOCATION:VisionCrest Commercial\, Singapore
CATEGORIES:Client Events
ATTACH;FMTTYPE=image/jpeg:https://visionadvisory.sg/wp-content/uploads/2023/08/VAM-EDM-OCT-9.jpg
END:VEVENT
BEGIN:VEVENT
DTSTART;TZID=UTC:20230920T190000
DTEND;TZID=UTC:20230920T210000
DTSTAMP:20260423T062716
CREATED:20230826T024743Z
LAST-MODIFIED:20231009T035332Z
UID:703-1695236400-1695243600@visionadvisory.sg
SUMMARY:Relook into Family Legacy Planning
DESCRIPTION:Join us for an exclusive evening of Family Legacy Planning! Limited spots are available\, so act fast! It’s all about “Fastest Fingers First” to secure your seat. Don’t miss this golden opportunity to shape your family’s legacy for generations. RSVP now and be a part of something truly extraordinary.
URL:https://visionadvisory.sg/event/relook-into-family-legacy-planning/
LOCATION:SMTP\, 290 Orchard Rd\, #14-01 Paragon\, 238859\, Singapore
CATEGORIES:Client Events
ATTACH;FMTTYPE=image/jpeg:https://visionadvisory.sg/wp-content/uploads/2023/08/VAM-EDM-SEP-01-1.jpg
END:VEVENT
BEGIN:VEVENT
DTSTART;TZID=UTC:20230816T180000
DTEND;TZID=UTC:20230816T210000
DTSTAMP:20260423T062716
CREATED:20230826T024625Z
LAST-MODIFIED:20231009T035219Z
UID:700-1692208800-1692219600@visionadvisory.sg
SUMMARY:Investment Seminar II
DESCRIPTION:Sticky Inflation\, Recession Risks\, Geopolitical Tensions\, China Slowdown – these persistent problems have left investors questioning their next move. But fear not! Join our exclusive seminar to hear from Peter ON how to invest confidently in a turbulent market. Can the market continue to rally on the wall of worries? Let’s find out! \nDiscover investment ideas\, including insights from our partner Fidelity\, to capitalize on the potential of Asia and China’s economic recovery. Despite the challenges\, these regions shine with growth prospects. Don’t miss our seminar and gain valuable insights into navigating uncertainties and unlocking opportunities.
URL:https://visionadvisory.sg/event/investmentseminarii/
LOCATION:VisionCrest Commercial\, Singapore
CATEGORIES:Client Events
ATTACH;FMTTYPE=image/jpeg:https://visionadvisory.sg/wp-content/uploads/2023/08/Event-Investemt-III-EDM-v4-1.jpg
END:VEVENT
END:VCALENDAR