BEGIN:VCALENDAR
VERSION:2.0
PRODID:-//Vision Advisory Management - ECPv6.2.2//NONSGML v1.0//EN
CALSCALE:GREGORIAN
METHOD:PUBLISH
X-ORIGINAL-URL:https://visionadvisory.sg
X-WR-CALDESC:Events for Vision Advisory Management
REFRESH-INTERVAL;VALUE=DURATION:PT1H
X-Robots-Tag:noindex
X-PUBLISHED-TTL:PT1H
BEGIN:VTIMEZONE
TZID:UTC
BEGIN:STANDARD
TZOFFSETFROM:+0000
TZOFFSETTO:+0000
TZNAME:UTC
DTSTART:20230101T000000
END:STANDARD
END:VTIMEZONE
BEGIN:VEVENT
DTSTART;TZID=UTC:20231017T180000
DTEND;TZID=UTC:20231017T210000
DTSTAMP:20260420T235854
CREATED:20230826T024806Z
LAST-MODIFIED:20231009T035309Z
UID:702-1697565600-1697576400@visionadvisory.sg
SUMMARY:Cancer Your Uncertainty
DESCRIPTION:🦠 Cancer: Your Uncertainty Unraveled! 🦠 \nDive into a riveting exploration of life’s uncertainties at our upcoming event – “Cancer: Your Uncertainty.” Cancer impacts lives globally\, demanding awareness and understanding. In our upcoming event\, we’re delving deep into this complex disease\, featuring the esteemed medical oncologist\, Dr. Donald Poon. Prepare for an insightful conversation as he discusses common cancers and the latest cancer drugs list that can be life-changing.🩺  \nBut that’s not all! Meet the brilliant Lisa Lim from First Sentier Investors\, a financial luminary with over 15 years of expertise. She will shed light on Asia equities and fixed income\, providing a unique perspective on finding stability amid the unknown. \nThis event isn’t just a gathering; it’s a transformative experience designed to empower you with knowledge\, inspire resilience\, and offer hope. Don’t let uncertainty hold you back. Embrace the unknown with courage\, understanding\, and a community of support.
URL:https://visionadvisory.sg/event/cancer-your-uncertainty/
LOCATION:VisionCrest Commercial\, Singapore
CATEGORIES:Client Events
ATTACH;FMTTYPE=image/jpeg:https://visionadvisory.sg/wp-content/uploads/2023/08/VAM-EDM-OCT-9.jpg
END:VEVENT
END:VCALENDAR